BEGIN:VCALENDAR
VERSION:2.0
PRODID:-//Motivational Interviewing Nürnberg - ECPv6.15.17//NONSGML v1.0//EN
CALSCALE:GREGORIAN
METHOD:PUBLISH
X-WR-CALNAME:Motivational Interviewing Nürnberg
X-ORIGINAL-URL:https://motivational-interviewing-nbg.de
X-WR-CALDESC:Veranstaltungen für Motivational Interviewing Nürnberg
REFRESH-INTERVAL;VALUE=DURATION:PT1H
X-Robots-Tag:noindex
X-PUBLISHED-TTL:PT1H
BEGIN:VTIMEZONE
TZID:Europe/Berlin
BEGIN:DAYLIGHT
TZOFFSETFROM:+0100
TZOFFSETTO:+0200
TZNAME:CEST
DTSTART:20250330T010000
END:DAYLIGHT
BEGIN:STANDARD
TZOFFSETFROM:+0200
TZOFFSETTO:+0100
TZNAME:CET
DTSTART:20251026T010000
END:STANDARD
BEGIN:DAYLIGHT
TZOFFSETFROM:+0100
TZOFFSETTO:+0200
TZNAME:CEST
DTSTART:20260329T010000
END:DAYLIGHT
BEGIN:STANDARD
TZOFFSETFROM:+0200
TZOFFSETTO:+0100
TZNAME:CET
DTSTART:20261025T010000
END:STANDARD
BEGIN:DAYLIGHT
TZOFFSETFROM:+0100
TZOFFSETTO:+0200
TZNAME:CEST
DTSTART:20270328T010000
END:DAYLIGHT
BEGIN:STANDARD
TZOFFSETFROM:+0200
TZOFFSETTO:+0100
TZNAME:CET
DTSTART:20271031T010000
END:STANDARD
END:VTIMEZONE
BEGIN:VEVENT
DTSTART;TZID=Europe/Berlin:20260420T093000
DTEND;TZID=Europe/Berlin:20260420T103000
DTSTAMP:20260420T141631
CREATED:20230926T095201Z
LAST-MODIFIED:20260306T095556Z
UID:242535-1776677400-1776681000@motivational-interviewing-nbg.de
SUMMARY:„Was ist Motivierende Gesprächsführung?“
DESCRIPTION:Die 60-minütige Veranstaltung richtet sich an Interessierte\, die sich einen ersten Einblick in die Motivierende Gesprächsführung verschaffen möchten. \nDie Veranstaltung wird über das Videokonferenzsystem Zoom angeboten.Nach Ablauf der Anmeldefrist erhalten Sie einen Zugangslink per E-Mail.Die Umsetzung Motivierender Gesprächsführung basiert auf einer besonderen Grundhaltung („spirit)“ und Methodenkombination („style“) („Motivational Interviewing“[MI] nach Miller und Rollnick) und verfolgt drei Ziele:1. Überhaupt erst einmal ins Gespräch über ein (eventuell) heikles Thema kommen (d.h. Gesprächsbereitschaft freisetzen bzw. „die Tür zu einem Gespräch öffnen“).2. Das Gespräch geschmeidig (i.S.e. Wiener Walzers) führen.3. Die Bereitschaft zu einer Änderung fördern. \nDas Webinar gibt einen Einblick in die MI-konsistente Umsetzung der drei Ziele. \nAnmeldefrist für das Webinar: 7.4.2026Nach Ablauf der Anmeldefrist erhalten Sie einen Zugangslink per E-Mail. \nReferentin:Andrea Koydl \n			\n				\n				\n				\n				\n				\n					\n					\n						Teilnahmegebühr\n						Die Teilnahme ist kostenfrei.Eine Anmeldung ist erforderlich. \n					\n				\n			\n				ANMELDEN
URL:https://motivational-interviewing-nbg.de/veranstaltungen/was-ist-motivierende-gespraechsfuehrung-5/
LOCATION:ONLINE\, Deutschland
CATEGORIES:Aktuelles,Termine,Webinar
ORGANIZER;CN="Motivational Interviewing N%C3%BCrnberg":MAILTO:andrea.koydl@mi-n.de
END:VEVENT
END:VCALENDAR