BEGIN:VCALENDAR
VERSION:2.0
PRODID:-//Motivational Interviewing Nürnberg - ECPv6.15.17//NONSGML v1.0//EN
CALSCALE:GREGORIAN
METHOD:PUBLISH
X-ORIGINAL-URL:https://motivational-interviewing-nbg.de
X-WR-CALDESC:Veranstaltungen für Motivational Interviewing Nürnberg
REFRESH-INTERVAL;VALUE=DURATION:PT1H
X-Robots-Tag:noindex
X-PUBLISHED-TTL:PT1H
BEGIN:VTIMEZONE
TZID:Europe/Berlin
BEGIN:DAYLIGHT
TZOFFSETFROM:+0100
TZOFFSETTO:+0200
TZNAME:CEST
DTSTART:20210328T010000
END:DAYLIGHT
BEGIN:STANDARD
TZOFFSETFROM:+0200
TZOFFSETTO:+0100
TZNAME:CET
DTSTART:20211031T010000
END:STANDARD
BEGIN:DAYLIGHT
TZOFFSETFROM:+0100
TZOFFSETTO:+0200
TZNAME:CEST
DTSTART:20220327T010000
END:DAYLIGHT
BEGIN:STANDARD
TZOFFSETFROM:+0200
TZOFFSETTO:+0100
TZNAME:CET
DTSTART:20221030T010000
END:STANDARD
BEGIN:DAYLIGHT
TZOFFSETFROM:+0100
TZOFFSETTO:+0200
TZNAME:CEST
DTSTART:20230326T010000
END:DAYLIGHT
BEGIN:STANDARD
TZOFFSETFROM:+0200
TZOFFSETTO:+0100
TZNAME:CET
DTSTART:20231029T010000
END:STANDARD
BEGIN:DAYLIGHT
TZOFFSETFROM:+0100
TZOFFSETTO:+0200
TZNAME:CEST
DTSTART:20240331T010000
END:DAYLIGHT
BEGIN:STANDARD
TZOFFSETFROM:+0200
TZOFFSETTO:+0100
TZNAME:CET
DTSTART:20241027T010000
END:STANDARD
BEGIN:DAYLIGHT
TZOFFSETFROM:+0100
TZOFFSETTO:+0200
TZNAME:CEST
DTSTART:20250330T010000
END:DAYLIGHT
BEGIN:STANDARD
TZOFFSETFROM:+0200
TZOFFSETTO:+0100
TZNAME:CET
DTSTART:20251026T010000
END:STANDARD
BEGIN:DAYLIGHT
TZOFFSETFROM:+0100
TZOFFSETTO:+0200
TZNAME:CEST
DTSTART:20260329T010000
END:DAYLIGHT
BEGIN:STANDARD
TZOFFSETFROM:+0200
TZOFFSETTO:+0100
TZNAME:CET
DTSTART:20261025T010000
END:STANDARD
BEGIN:DAYLIGHT
TZOFFSETFROM:+0100
TZOFFSETTO:+0200
TZNAME:CEST
DTSTART:20270328T010000
END:DAYLIGHT
BEGIN:STANDARD
TZOFFSETFROM:+0200
TZOFFSETTO:+0100
TZNAME:CET
DTSTART:20271031T010000
END:STANDARD
END:VTIMEZONE
BEGIN:VEVENT
DTSTART;TZID=Europe/Berlin:20260420T093000
DTEND;TZID=Europe/Berlin:20260420T103000
DTSTAMP:20260421T151411
CREATED:20230926T095201Z
LAST-MODIFIED:20260306T095556Z
UID:242535-1776677400-1776681000@motivational-interviewing-nbg.de
SUMMARY:„Was ist Motivierende Gesprächsführung?“
DESCRIPTION:Die 60-minütige Veranstaltung richtet sich an Interessierte\, die sich einen ersten Einblick in die Motivierende Gesprächsführung verschaffen möchten. \nDie Veranstaltung wird über das Videokonferenzsystem Zoom angeboten.Nach Ablauf der Anmeldefrist erhalten Sie einen Zugangslink per E-Mail.Die Umsetzung Motivierender Gesprächsführung basiert auf einer besonderen Grundhaltung („spirit)“ und Methodenkombination („style“) („Motivational Interviewing“[MI] nach Miller und Rollnick) und verfolgt drei Ziele:1. Überhaupt erst einmal ins Gespräch über ein (eventuell) heikles Thema kommen (d.h. Gesprächsbereitschaft freisetzen bzw. „die Tür zu einem Gespräch öffnen“).2. Das Gespräch geschmeidig (i.S.e. Wiener Walzers) führen.3. Die Bereitschaft zu einer Änderung fördern. \nDas Webinar gibt einen Einblick in die MI-konsistente Umsetzung der drei Ziele. \nAnmeldefrist für das Webinar: 7.4.2026Nach Ablauf der Anmeldefrist erhalten Sie einen Zugangslink per E-Mail. \nReferentin:Andrea Koydl \n			\n				\n				\n				\n				\n				\n					\n					\n						Teilnahmegebühr\n						Die Teilnahme ist kostenfrei.Eine Anmeldung ist erforderlich. \n					\n				\n			\n				ANMELDEN
URL:https://motivational-interviewing-nbg.de/veranstaltungen/was-ist-motivierende-gespraechsfuehrung-5/
LOCATION:ONLINE\, Deutschland
CATEGORIES:Aktuelles,Termine,Webinar
ORGANIZER;CN="Motivational Interviewing N%C3%BCrnberg":MAILTO:andrea.koydl@mi-n.de
END:VEVENT
BEGIN:VEVENT
DTSTART;TZID=Europe/Berlin:20260112T093000
DTEND;TZID=Europe/Berlin:20260112T103000
DTSTAMP:20260421T151411
CREATED:20230926T094149Z
LAST-MODIFIED:20250912T075443Z
UID:242522-1768210200-1768213800@motivational-interviewing-nbg.de
SUMMARY:„Motivierende Gesprächsführung – Die Basiskompetenz Zieloffener Suchtarbeit“
DESCRIPTION:Die 60-minütige Veranstaltung richtet sich an Fachkräfte (Suchthilfe\, Wohnungslosenhilfe\, Sozialpsychiatrie\, Straffälligenhilfe\, Jugendhilfe\, Jobcenter\, Behörden\, Ämter etc.)\, die sich einen ersten Einblick in das Thema verschaffen möchten. \nDie Umsetzung Zieloffener Suchtarbeit (ZOS) basiert auf der Grundhaltung („spirit)“ und Methodenkombination („style“) der Motivierenden Gesprächsführung („Motivational Interviewing“[MI] nach Miller und Rollnick). In einem geschmeidigen Austausch und auf Augenhöhe wird der Klient bei drei Klärungsschritten begleitet: 1. Konsum- und; 2. Zielklärung (Abstinenz\, Reduktion etc.) mittels → Kartensatz; 3. den Änderungsweg (Intervention) herauszufinden\, der ihm gemäß ist. In allen diesen Schritten gilt es\, die Autonomie des Klienten zu wahren\, seine bisherigen Erfahrungen mit Konsumänderungen (somit sein Expertentum) einzubeziehen und dem eigenen „Rechthabereflex“ („Ich weiß\, was für Sie das Beste ist“) zu widerstehen. Das Webinar gibt einen Einblick in die MI-konsistente Umsetzung der drei Klärungsschritte. \nAnmeldefrist für das Webinar: 5.1.2026Nach Ablauf der Anmeldefrist erhalten Sie einen Zugangslink per E-Mail. \nReferentin:Andrea Koydl  \n			\n				\n				\n				\n				\n				\n					\n					\n						Teilnahmegebühr\n						Die Teilnahme ist kostenfrei.\nEine Anmeldung ist erforderlich.\n					\n				\n			\n				ANMELDEN
URL:https://motivational-interviewing-nbg.de/veranstaltungen/motivierende-gespraechsfuehrung-die-basiskompetenz-zieloffener-suchtarbeit-5/
LOCATION:ONLINE\, Deutschland
CATEGORIES:Termine,Webinar
ORGANIZER;CN="Motivational Interviewing N%C3%BCrnberg":MAILTO:andrea.koydl@mi-n.de
END:VEVENT
BEGIN:VEVENT
DTSTART;TZID=Europe/Berlin:20251112T090000
DTEND;TZID=Europe/Berlin:20251114T163000
DTSTAMP:20260421T151411
CREATED:20220707T111152Z
LAST-MODIFIED:20250519T153059Z
UID:1906-1762938000-1763137800@motivational-interviewing-nbg.de
SUMMARY:MI-1 Grundlagenseminar
DESCRIPTION:Die Inhalte sind:\n\nEinführung in Theorie\, Menschenbild\, Grundhaltung („spirit“)\, Komponenten und Anwendungsfelder des MI\nTypische Gesprächsfallen und besondere Herausforderungen bei „schwierigen“ KlientInnen/ PatientInnen/ MitarbeiterInnen\nErlenen und Anwenden grundlegender MI-Methoden\, (Aktives Zuhören\, offene Fragen\, würdigen\, Umgang mit Widerstand\, Aufbau von Änderungsbereitschaft [„change talk“] etc.)\nVideo-Beispiele und Video-Analyse von MI-Gesprächen\n\nAnmeldefrist für das Seminar: 29.10.2025 \nReferentin: Andrea Koydl \nZeiten:Tag 1 jeweils von 9.00 – 16.30 UhrTag 2 jeweils von 9.00 – 16.30 UhrTag 3 jeweils von 9.00 – 16.30 Uhr \nFormat: online via Zoom \n* Für PsychotherapeutInnen: Der Kurs ist Teil der von der Psychotherapeutenkammer Bayern mit 81 Punkten anerkannten Fortbildung. \n			\n				ANMELDEN\n			\n				\n				\n				\n				\n				\n					\n					\n						Teilnahmegebühr\n						Die Teilnahmegebühr beträgt 550\,00 € inkl. MwSt. \nBei Anmeldung zu allen drei Seminarblöcken (= vollständige MI-Ausbildung) reduzieren sich die Kosten auf 1.567\,50 € inkl. MwSt.
URL:https://motivational-interviewing-nbg.de/veranstaltungen/mi-1-grundlagenseminar-2/
LOCATION:ONLINE\, Deutschland
CATEGORIES:Seminar,Termine
ORGANIZER;CN="Motivational Interviewing N%C3%BCrnberg":MAILTO:andrea.koydl@mi-n.de
END:VEVENT
BEGIN:VEVENT
DTSTART;TZID=Europe/Berlin:20251013T093000
DTEND;TZID=Europe/Berlin:20251013T103000
DTSTAMP:20260421T151411
CREATED:20220721T055512Z
LAST-MODIFIED:20251013T094710Z
UID:2011-1760347800-1760351400@motivational-interviewing-nbg.de
SUMMARY:"Was ist Motivierende Gesprächsführung?"
DESCRIPTION:Die 90-minütige Veranstaltung richtet sich an Interessierte\, die sich einen ersten Einblick in die Motivierende Gesprächsführung verschaffen möchten. \nDie Veranstaltung wird über das Videokonferenzsystem Zoom angeboten.Nach Ablauf der Anmeldefrist erhalten Sie einen Zugangslink per E-Mail.Die Umsetzung Motivierender Gesprächsführung basiert auf einer besonderen Grundhaltung („spirit)“ und Methodenkombination („style“) („Motivational Interviewing“[MI] nach Miller und Rollnick) und verfolgt drei Ziele:1. Überhaupt erst einmal ins Gespräch über ein (eventuell) heikles Thema kommen (d.h. Gesprächsbereitschaft freisetzen bzw. „die Tür zu einem Gespräch öffnen“).2. Das Gespräch geschmeidig (i.S.e. Wiener Walzers) führen.3. Die Bereitschaft zu einer Änderung fördern. \nDas Webinar gibt einen Einblick in die MI-konsistente Umsetzung der drei Ziele. \nAnmeldefrist für das Webinar: 06.10.2025Nach Ablauf der Anmeldefrist erhalten Sie einen Zugangslink per E-Mail. \nReferentInnen:Andrea Koydl / Prof Dr. Joachim Körkel \n			\n				ANMELDEN\n			\n				\n				\n				\n				\n				\n					\n					\n						Teilnahmegebühr\n						Die Teilnahme ist kostenfrei.Eine Anmeldung ist erforderlich.
URL:https://motivational-interviewing-nbg.de/veranstaltungen/was-ist-motivierende-gespraechsfuehrung-3/
LOCATION:ONLINE\, Deutschland
CATEGORIES:Termine,Webinar
ORGANIZER;CN="Motivational Interviewing N%C3%BCrnberg":MAILTO:andrea.koydl@mi-n.de
END:VEVENT
BEGIN:VEVENT
DTSTART;TZID=Europe/Berlin:20240925T090000
DTEND;TZID=Europe/Berlin:20240927T163000
DTSTAMP:20260421T151411
CREATED:20230722T124108Z
LAST-MODIFIED:20230926T110437Z
UID:242442-1727254800-1727454600@motivational-interviewing-nbg.de
SUMMARY:MI-3 Aufbauseminar
DESCRIPTION:Das Angebot richtet sich an Interessierte\, die das Grundlagenseminar MI-1 und das Aufbauseminar MI-2 bereits belegt haben.Im Aufbauseminar MI-3 (= das 3. Modul der MI-Ausbildung) stehen folgende Inhalte im Mittelpunkt: \n\nMI-konforme Durchführung längerer Gesprächssequenzen\n„Agenda Setting“ zur Gesprächsstrukturierung bei heiklen Themen und komplexen Problemlagen (z.B. im Jobcenter\, in der Sucht-\, Wohnungslosen- oder Straffälligenhilfe\, Sozialpsychiatrie etc.)\nAnalyse selbst gewählter und vorgegebener Fälle\nMI im Zwangskontext\nEinschätzung und Optimierung der MI-Umsetzungsqualität anhand von MI-Kodiersystemen („MISC“ und „MITI“)\n\nAnmeldefrist für das Seminar: 13.09.2024 \nReferentin: Andrea Koydl \nTermine:Tag 1 jeweils von 9.00 – 16.30 UhrTag 2 jeweils von 9.00 – 16.30 UhrTag 3 jeweils von 9.00 – 16.30 Uhr \nFormat: online via Zoom \nFür PsychotherapeutInnen: Der Kurs ist Teil der von der Psychotherapeutenkammer Bayern mit 81 Punkten anerkannten Fortbildung. \n			\n				ANMELDEN\n			\n				\n				\n				\n				\n				\n					\n					\n						Teilnahmegebühr\n						Die Teilnahmegebühr beträgt 550\,00 € inkl. MwSt. \nBei Anmeldung zu allen drei Seminarblöcken (= vollständige MI-Ausbildung) reduzieren sich die Kosten auf 1.567\,50 € inkl. MwSt.
URL:https://motivational-interviewing-nbg.de/veranstaltungen/mi-3-aufbauseminar/
LOCATION:ONLINE\, Deutschland
CATEGORIES:Termine
ORGANIZER;CN="Motivational Interviewing N%C3%BCrnberg":MAILTO:andrea.koydl@mi-n.de
END:VEVENT
BEGIN:VEVENT
DTSTART;TZID=Europe/Berlin:20240405T180000
DTEND;TZID=Europe/Berlin:20240407T184500
DTSTAMP:20260421T151411
CREATED:20220707T111806Z
LAST-MODIFIED:20240403T160512Z
UID:1913-1712340000-1712515500@motivational-interviewing-nbg.de
SUMMARY:Online-Fortbildung Motivational Interviewing - Patient:innen zur Mitarbeit gewinnen
DESCRIPTION:Sowohl Patient:innen als auch Ärzt:innen sind vor die große Aufgabe gestellt\, gemeinsam individuell geeignete Lösungen im Rahmen der Behandlung der Opioidabhängigkeit zu finden. Hierbei stellt das Motivational Interviewing ein pragmatisches lernendes Konzept der Gesprächsführung dar\, um Menschen für Veränderung zu gewinnen.In dieser Online-Fortbildung geht Herr Prof. Dr. phil. Joachim Körkel auf die wichtigsten damit verbundenen Fragen ein. Nach einem Überblick über die essentiellen Aspekte des Motivational Interviewing wird anhand konkreter Beispiele die Logik der Gesprächsführung beleuchtet – Fragenformulierung\, Entstigmatisierung sowie Patientenorientierung stehen hierbei im Fokus.Abschließend soll diskutiert werden\, was eine moderne\, patientenorientierte Behandlung ausmacht und wie das Konzept des Motivational Interviewing hier Einklang erfahren kann. \nReferent: Prof. Dr. phil. Joachim Körkel \nDie Veranstaltung wurde von der Bayerischen Landesärztekammer mit 1 CME Punkt zertifiziert. Die Inhalte dieser Veranstaltung werden produkt- und dienstleistungsneutral gestaltet.Dieses Online Symposium wird von der Camurus GmbH mit einem Betrag von 4.000 € gefördert.Eine Fortbildung der Academy Verlagsgesellschaft mbH\, Fürther Straße 33\, 90513 Zirndorf \n			\n				\n				\n				\n				\n				\n					\n					\n						\n						\n					\n				\n			\n				ANMELDEN
URL:https://motivational-interviewing-nbg.de/veranstaltungen/mi-1-grundlagenseminar-3/
LOCATION:ONLINE\, Deutschland
CATEGORIES:Termine
END:VEVENT
BEGIN:VEVENT
DTSTART;TZID=Europe/Berlin:20231103T093000
DTEND;TZID=Europe/Berlin:20231103T103000
DTSTAMP:20260421T151411
CREATED:20220721T065530Z
LAST-MODIFIED:20230926T095603Z
UID:2056-1699003800-1699007400@motivational-interviewing-nbg.de
SUMMARY:„Motivierende Gesprächsführung – Die Basiskompetenz Zieloffener Suchtarbeit“
DESCRIPTION:Die 60-minütige Veranstaltung richtet sich an Fachkräfte (Suchthilfe\, Wohnungslosenhilfe\, Sozialpsychiatrie\, Straffälligenhilfe\, Jugendhilfe\, Jobcenter\, Behörden\, Ämter etc.)\, die sich einen ersten Einblick in das Thema verschaffen möchten. \nDie Umsetzung Zieloffener Suchtarbeit (ZOS) basiert auf der Grundhaltung („spirit)“ und Methodenkombination („style“) der Motivierenden Gesprächsführung („Motivational Interviewing“[MI] nach Miller und Rollnick). In einem geschmeidigen Austausch und auf Augenhöhe wird der Klient bei drei Klärungsschritten begleitet: 1. Konsum- und; 2. Zielklärung (Abstinenz\, Reduktion etc.) mittels → Kartensatz; 3. den Änderungsweg (Intervention) herauszufinden\, der ihm gemäß ist. In allen diesen Schritten gilt es\, die Autonomie des Klienten zu wahren\, seine bisherigen Erfahrungen mit Konsumänderungen (somit sein Expertentum) einzubeziehen und dem eigenen „Rechthabereflex“ („Ich weiß\, was für Sie das Beste ist“) zu widerstehen. Das Webinar gibt einen Einblick in die MI-konsistente Umsetzung der drei Klärungsschritte. \nAnmeldefrist für das Webinar: 27.10.2023Nach Ablauf der Anmeldefrist erhalten Sie einen Zugangslink per E-Mail. \nReferentInnen:Andrea Koydl / Prof Dr. Joachim Körkel \n			\n				\n				\n				\n				\n				\n					\n					\n						Teilnahmegebühr\n						Die Teilnahme ist kostenfrei.Eine Anmeldung ist erforderlich. \n					\n				\n			\n				ANMELDEN
URL:https://motivational-interviewing-nbg.de/veranstaltungen/motivierende-gespraechsfuehrung-die-basiskompetenz-zieloffener-suchtarbeit-4/
LOCATION:ONLINE\, Deutschland
CATEGORIES:Termine
ORGANIZER;CN="Motivational Interviewing N%C3%BCrnberg":MAILTO:andrea.koydl@mi-n.de
END:VEVENT
BEGIN:VEVENT
DTSTART;TZID=Europe/Berlin:20230620T093000
DTEND;TZID=Europe/Berlin:20230620T103000
DTSTAMP:20260421T151411
CREATED:20220721T064951Z
LAST-MODIFIED:20230612T094344Z
UID:2050-1687253400-1687257000@motivational-interviewing-nbg.de
SUMMARY:„Motivierende Gesprächsführung – Die Basiskompetenz Zieloffener Suchtarbeit“
DESCRIPTION:Die 90-minütige Veranstaltung richtet sich an Fachkräfte (Suchthilfe\, Wohnungslosenhilfe\, Sozialpsychiatrie\, Straffälligenhilfe\, Jugendhilfe\, Jobcenter\, Behörden\, Ämter etc.)\, die sich einen ersten Einblick in das Thema verschaffen möchten. \nDie Umsetzung Zieloffener Suchtarbeit (ZOS) basiert auf der Grundhaltung („spirit)“ und Methodenkombination („style“) der Motivierenden Gesprächsführung („Motivational Interviewing“[MI] nach Miller und Rollnick). In einem geschmeidigen Austausch und auf Augenhöhe wird der Klient bei drei Klärungsschritten begleitet: 1. Konsum- und; 2. Zielklärung (Abstinenz\, Reduktion etc.) mittels → Kartensatz; 3. den Änderungsweg (Intervention) herauszufinden\, der ihm gemäß ist. In allen diesen Schritten gilt es\, die Autonomie des Klienten zu wahren\, seine bisherigen Erfahrungen mit Konsumänderungen (somit sein Expertentum) einzubeziehen und dem eigenen „Rechthabereflex“ („Ich weiß\, was für Sie das Beste ist“) zu widerstehen. Das Webinar gibt einen Einblick in die MI-konsistente Umsetzung der drei Klärungsschritte. \nAnmeldefrist für das Webinar: 13.06.2023\nNach Ablauf der Anmeldefrist erhalten Sie einen Zugangslink per E-Mail. \nReferentInnen:\nAndrea Koydl / Prof Dr. Joachim Körkel\n			\n				\n				\n				\n				\n				\n					\n					\n						Teilnahmegebühr\n						Die Teilnahme ist kostenfrei.\nEine Anmeldung ist erforderlich.\n					\n				\n			\n				ANMELDEN
URL:https://motivational-interviewing-nbg.de/veranstaltungen/motivierende-gespraechsfuehrung-die-basiskompetenz-zieloffener-suchtarbeit-3/
LOCATION:ONLINE\, Deutschland
CATEGORIES:Aktuelles,Termine
ORGANIZER;CN="Motivational Interviewing N%C3%BCrnberg":MAILTO:andrea.koydl@mi-n.de
END:VEVENT
BEGIN:VEVENT
DTSTART;TZID=Europe/Berlin:20230420T090000
DTEND;TZID=Europe/Berlin:20230420T163000
DTSTAMP:20260421T151411
CREATED:20220707T115305Z
LAST-MODIFIED:20220711T091358Z
UID:1938-1681981200-1682008200@motivational-interviewing-nbg.de
SUMMARY:MI-1 Grundlagen-Refreshertag
DESCRIPTION:Im 1-tägigen MI-Grundlagen-Refreshertag werden die Inhalte des Grundlagenseminars aufgefrischt. \nDie Inhalte sind: \n\nGesamtmodell der Motivierenden Gesprächsführung\nProzessphasen der Motivierenden Gesprächsführung (engaging\, focusing\, evoking\, planning)\nGrundmethoden der Motivierenden Gesprächsführung (OAR)\nÜbungen zu den Methoden „Aktives Zuhören“\, „offene Fragen stellen“\, „würdigen“\nMethoden zum Umgang mit Widerstand (sustain talk und discord)\nKomplexe Übung zur Anwendung aller bekannten Methoden entlang den Prozessphasen\n\nAnmeldefrist für das Seminar: 05.04.2023 \nReferentin: Andrea Koydl \nFormat: online via Zoom \n			\n				ANMELDEN\n			\n				\n				\n				\n				\n				\n					\n					\n						Teilnahmegebühr\n						Die Teilnahmegebühr 2023 beträgt 175\,00 € inkl. MwSt.
URL:https://motivational-interviewing-nbg.de/veranstaltungen/mi-1-grundlagen-refreshertag-2/
LOCATION:ONLINE\, Deutschland
CATEGORIES:Termine
ORGANIZER;CN="Motivational Interviewing N%C3%BCrnberg":MAILTO:andrea.koydl@mi-n.de
END:VEVENT
BEGIN:VEVENT
DTSTART;TZID=Europe/Berlin:20230413T170000
DTEND;TZID=Europe/Berlin:20230413T180000
DTSTAMP:20260421T151411
CREATED:20220218T111037Z
LAST-MODIFIED:20230209T100659Z
UID:1672-1681405200-1681408800@motivational-interviewing-nbg.de
SUMMARY:„Motivierende Gesprächsführung – Die Basiskompetenz Zieloffener Suchtarbeit“
DESCRIPTION:Die 90-minütige Veranstaltung richtet sich an Fachkräfte (Suchthilfe\, Wohnungslosenhilfe\, Sozialpsychiatrie\, Straffälligenhilfe\, Jugendhilfe\, Jobcenter\, Behörden\, Ämter etc.)\, die sich einen ersten Einblick in das Thema verschaffen möchten. \nDie Umsetzung Zieloffener Suchtarbeit (ZOS) basiert auf der Grundhaltung („spirit)“ und Methodenkombination („style“) der Motivierenden Gesprächsführung („Motivational Interviewing“[MI] nach Miller und Rollnick). In einem geschmeidigen Austausch und auf Augenhöhe wird der Klient bei drei Klärungsschritten begleitet: 1. Konsum- und; 2. Zielklärung (Abstinenz\, Reduktion etc.) mittels → Kartensatz; 3. den Änderungsweg (Intervention) herauszufinden\, der ihm gemäß ist. In allen diesen Schritten gilt es\, die Autonomie des Klienten zu wahren\, seine bisherigen Erfahrungen mit Konsumänderungen (somit sein Expertentum) einzubeziehen und dem eigenen „Rechthabereflex“ („Ich weiß\, was für Sie das Beste ist“) zu widerstehen. Das Webinar gibt einen Einblick in die MI-konsistente Umsetzung der drei Klärungsschritte. \nAnmeldefrist für das Webinar: 06.04.2023Nach Ablauf der Anmeldefrist erhalten Sie einen Zugangslink per E-Mail. \nReferentInnen:Andrea Koydl / Prof Dr. Joachim Körkel \n			\n				ANMELDEN\n			\n				\n				\n				\n				\n				\n					\n					\n						Teilnahmegebühr\n						Die Teilnahme ist kostenfrei.\nEine Anmeldung ist erforderlich.
URL:https://motivational-interviewing-nbg.de/veranstaltungen/motivierende-gespraechsfuehrung-die-basiskompetenz-zieloffener-suchtarbeit/
LOCATION:ONLINE\, Deutschland
CATEGORIES:Termine
END:VEVENT
BEGIN:VEVENT
DTSTART;TZID=Europe/Berlin:20230315T090000
DTEND;TZID=Europe/Berlin:20230317T163000
DTSTAMP:20260421T151411
CREATED:20220707T105847Z
LAST-MODIFIED:20220711T091411Z
UID:1894-1678870800-1679070600@motivational-interviewing-nbg.de
SUMMARY:MI-1 Grundlagenseminar
DESCRIPTION:Die Inhalte sind:\nEinführung in Theorie\, Menschenbild/ Grundhaltung („spirit“)\, Komponenten\, Wirksamkeit und Anwendungsfelder des MI \n\nEinführung in Theorie\, Menschenbild\, Grundhaltung („spirit“)\, Komponenten und Anwendungsfelder des MI\nTypische Gesprächsfallen und besondere Herausforderungen bei „schwierigen“ KlientInnen/ PatientInnen/ MitarbeiterInnen\nErlenen und Anwenden grundlegender MI-Methoden\, (Aktives Zuhören\, offene Fragen\, würdigen\, Umgang mit Widerstand\, Aufbau von Änderungsbereitschaft [„change talk“] etc.)\nVideo-Beispiele und Video-Analyse von MI-Gesprächen\n\nAnmeldefrist für das Seminar: 28.02.2023 \nReferentin: Andrea Koydl \nZeiten:Tag 1 jeweils von 9.00 – 16.30 UhrTag 2 jeweils von 9.00 – 16.30 UhrTag 3 jeweils von 9.00 – 16.30 Uhr \nFormat: online via Zoom \n\n\n			\n				\n				\n				\n				\n				\n					\n					\n						Teilnahmegebühr\n						\nDie Teilnahmegebühr 2023 beträgt 525\,00 € inkl. MwSt. \nBei Anmeldung zu allen drei Seminarblöcken (= vollständige MI-Ausbildung) reduzieren sich die Kosten auf 1.490\,00 € inkl. MwSt.
URL:https://motivational-interviewing-nbg.de/veranstaltungen/1894/
LOCATION:ONLINE\, Deutschland
CATEGORIES:Termine
END:VEVENT
BEGIN:VEVENT
DTSTART;TZID=Europe/Berlin:20230228T093000
DTEND;TZID=Europe/Berlin:20230228T103000
DTSTAMP:20260421T151411
CREATED:20220721T054501Z
LAST-MODIFIED:20230209T100804Z
UID:1994-1677576600-1677580200@motivational-interviewing-nbg.de
SUMMARY:„Was ist Motivierende Gesprächsführung?“
DESCRIPTION:Die 90-minütige Veranstaltung richtet sich an Interessierte\, die sich einen ersten Einblick in die Motivierende Gesprächsführung verschaffen möchten. \nDie Veranstaltung wird über das Videokonferenzsystem Zoom angeboten.Nach Ablauf der Anmeldefrist erhalten Sie einen Zugangslink per E-Mail.Die Umsetzung Motivierender Gesprächsführung basiert auf einer besonderen Grundhaltung („spirit)“ und Methodenkombination („style“) („Motivational Interviewing“[MI] nach Miller und Rollnick) und verfolgt drei Ziele:1. Überhaupt erst einmal ins Gespräch über ein (eventuell) heikles Thema kommen (d.h. Gesprächsbereitschaft freisetzen bzw. „die Tür zu einem Gespräch öffnen“).2. Das Gespräch geschmeidig (i.S.e. Wiener Walzers) führen.3. Die Bereitschaft zu einer Änderung fördern. \nDas Webinar gibt einen Einblick in die MI-konsistente Umsetzung der drei Ziele. \nAnmeldefrist für das Webinar: 21.02.2023Nach Ablauf der Anmeldefrist erhalten Sie einen Zugangslink per E-Mail. \nReferentInnen:Andrea Koydl / Prof Dr. Joachim Körkel \n			\n				ANMELDEN\n			\n				\n				\n				\n				\n				\n					\n					\n						Teilnahmegebühr\n						Die Teilnahme ist kostenfrei.Eine Anmeldung ist erforderlich.
URL:https://motivational-interviewing-nbg.de/veranstaltungen/was-ist-motivierende-gespraechsfuehrung-2/
LOCATION:ONLINE\, Deutschland
ORGANIZER;CN="Motivational Interviewing N%C3%BCrnberg":MAILTO:andrea.koydl@mi-n.de
END:VEVENT
BEGIN:VEVENT
DTSTART;TZID=Europe/Berlin:20221109T090000
DTEND;TZID=Europe/Berlin:20221111T163000
DTSTAMP:20260421T151411
CREATED:20220217T095415Z
LAST-MODIFIED:20220708T090355Z
UID:1613-1667984400-1668184200@motivational-interviewing-nbg.de
SUMMARY:MI-1 Grundlagenseminar
DESCRIPTION:Die Inhalte sind:\nEinführung in Theorie\, Menschenbild/ Grundhaltung („spirit“)\, Komponenten\, Wirksamkeit und Anwendungsfelder des MI \n\nEinführung in Theorie\, Menschenbild\, Grundhaltung („spirit“)\, Komponenten und Anwendungsfelder des MI\nTypische Gesprächsfallen und besondere Herausforderungen bei „schwierigen“ KlientInnen/ PatientInnen/ MitarbeiterInnen\nErlenen und Anwenden grundlegender MI-Methoden\, (Aktives Zuhören\, offene Fragen\, würdigen\, Umgang mit Widerstand\, Aufbau von Änderungsbereitschaft [„change talk“] etc.)\nVideo-Beispiele und Video-Analyse von MI-Gesprächen\n\nAnmeldefrist für das Seminar: 19.10.2022 \nReferentin: Andrea Koydl \nZeiten:Tag 1 jeweils von 9.00 – 16.30 UhrTag 2 jeweils von 9.00 – 16.30 UhrTag 3 jeweils von 9.00 – 16.30 Uhr \nFormat: online via Zoom \n			\n				ANMELDEN\n			\n				\n				\n				\n				\n				\n					\n					\n						Teilnahmegebühr\n						Die Teilnahmegebühr beträgt 505\,75 € inkl. MwSt. \nBei Anmeldung zu allen drei Seminarblöcken (= vollständige MI-Ausbildung) reduzieren sich die Kosten auf 1.428\,00 € inkl. MwSt.
URL:https://motivational-interviewing-nbg.de/veranstaltungen/mi-1-basiskurs-2/
LOCATION:ONLINE\, Deutschland
CATEGORIES:Termine
END:VEVENT
BEGIN:VEVENT
DTSTART;TZID=Europe/Berlin:20221108T170000
DTEND;TZID=Europe/Berlin:20221108T183000
DTSTAMP:20260421T151411
CREATED:20220218T111653Z
LAST-MODIFIED:20220221T112029Z
UID:1678-1667926800-1667932200@motivational-interviewing-nbg.de
SUMMARY:„Motivierende Gesprächsführung – Die Basiskompetenz Zieloffener Suchtarbeit“
DESCRIPTION:Die 90-minütige Veranstaltung richtet sich an Fachkräfte (Suchthilfe\, Wohnungslosenhilfe\, Sozialpsychiatrie\, Straffälligenhilfe\, Jugendhilfe\, Jobcenter\, Behörden\, Ämter etc.)\, die sich einen ersten Einblick in das Thema verschaffen möchten. \nDie Umsetzung Zieloffener Suchtarbeit (ZOS) basiert auf der Grundhaltung („spirit)“ und Methodenkombination („style“) der Motivierenden Gesprächsführung („Motivational Interviewing“[MI] nach Miller und Rollnick). In einem geschmeidigen Austausch und auf Augenhöhe wird der Klient bei drei Klärungsschritten begleitet: 1. Konsum- und; 2. Zielklärung (Abstinenz\, Reduktion etc.) mittels → Kartensatz; 3. den Änderungsweg (Intervention) herauszufinden\, der ihm gemäß ist. In allen diesen Schritten gilt es\, die Autonomie des Klienten zu wahren\, seine bisherigen Erfahrungen mit Konsumänderungen (somit sein Expertentum) einzubeziehen und dem eigenen „Rechthabereflex“ („Ich weiß\, was für Sie das Beste ist“) zu widerstehen. Das Webinar gibt einen Einblick in die MI-konsistente Umsetzung der drei Klärungsschritte. \nAnmeldefrist für das Webinar: 01.11.2022Nach Ablauf der Anmeldefrist erhalten Sie einen Zugangslink per E-Mail. \nReferentInnen:Andrea Koydl / Prof Dr. Joachim KörkelDauer: 90 MinutenFormat: online via Zoom \n			\n				ANMELDEN\n			\n				\n				\n				\n				\n				\n					\n					\n						Teilnahmegebühr\n						Die Teilnahme ist kostenfrei.Eine Anmeldung ist erforderlich.
URL:https://motivational-interviewing-nbg.de/veranstaltungen/motivierende-gespraechsfuehrung-die-basiskompetenz-zieloffener-suchtarbeit-2/
LOCATION:ONLINE\, Deutschland
CATEGORIES:Termine
END:VEVENT
BEGIN:VEVENT
DTSTART;TZID=Europe/Berlin:20221019T090000
DTEND;TZID=Europe/Berlin:20221019T163000
DTSTAMP:20260421T151411
CREATED:20220707T114654Z
LAST-MODIFIED:20220708T091800Z
UID:1931-1666170000-1666197000@motivational-interviewing-nbg.de
SUMMARY:MI-1 Grundlagen-Refreshertag
DESCRIPTION:Im 1-tägigen MI-Grundlagen-Refreshertag werden die Inhalte des Grundlagenseminars aufgefrischt. \nDie Inhalte sind: \n\n\nGesamtmodell der Motivierenden Gesprächsführung \n\n\nProzessphasen der Motivierenden Gesprächsführung (engaging\, focusing\, evoking\, planning) \n\n\nGrundmethoden der Motivierenden Gesprächsführung (OAR) \n\n\nÜbungen zu den Methoden „Aktives Zuhören“\, „offene Fragen stellen“\, „würdigen“ \n\n\nMethoden zum Umgang mit Widerstand (sustain talk und discord) \n\n\nKomplexe Übung zur Anwendung aller bekannten Methoden entlang den Prozessphasen \n\n\nAnmeldefrist für das Seminar: 10.10.2022 \nReferentin: Andrea Koydl \nFormat: online via Zoom \n  \n			\n				ANMELDEN\n			\n				\n				\n				\n				\n				\n					\n					\n						Teilnahmegebühr\n						Die Teilnahmegebühr 2022 beträgt 169\,00 € inkl. MwSt.
URL:https://motivational-interviewing-nbg.de/veranstaltungen/mi-1-grundlagen-refreshertag/
LOCATION:ONLINE\, Deutschland
CATEGORIES:Termine
ORGANIZER;CN="Motivational Interviewing N%C3%BCrnberg":MAILTO:andrea.koydl@mi-n.de
END:VEVENT
BEGIN:VEVENT
DTSTART;TZID=Europe/Berlin:20220802T093000
DTEND;TZID=Europe/Berlin:20220802T110000
DTSTAMP:20260421T151411
CREATED:20220218T110431Z
LAST-MODIFIED:20220302T102138Z
UID:1665-1659432600-1659438000@motivational-interviewing-nbg.de
SUMMARY:„Was ist Motivierende Gesprächsführung?“
DESCRIPTION:Die 90-minütige Veranstaltung richtet sich an Interessierte\, die sich einen ersten Einblick in die Motivierende Gesprächsführung verschaffen möchten. \nDie Veranstaltung wird über das Videokonferenzsystem Zoom angeboten.Nach Ablauf der Anmeldefrist erhalten Sie einen Zugangslink per E-Mail.Die Umsetzung Motivierender Gesprächsführung basiert auf einer besonderen Grundhaltung („spirit)“ und Methodenkombination („style“) („Motivational Interviewing“[MI] nach Miller und Rollnick) und verfolgt drei Ziele:1. Überhaupt erst einmal ins Gespräch über ein (eventuell) heikles Thema kommen (d.h. Gesprächsbereitschaft freisetzen bzw. „die Tür zu einem Gespräch öffnen“).2. Das Gespräch geschmeidig (i.S.e. Wiener Walzers) führen.3. Die Bereitschaft zu einer Änderung fördern. \nDas Webinar gibt einen Einblick in die MI-konsistente Umsetzung der drei Ziele. \nAnmeldefrist für das Webinar am02.08.2022 von 09.30 – 11.00 Uhr: 26.07.2022 \nReferentInnen:Andrea Koydl / Prof Dr. Joachim Körkel \nDauer: 90 Minuten \nFormat: online via Zoom \n			\n				ANMELDEN\n			\n				\n				\n				\n				\n				\n					\n					\n						Teilnahmegebühr\n						Die Teilnahme ist kostenfrei.Eine Anmeldung ist erforderlich.
URL:https://motivational-interviewing-nbg.de/veranstaltungen/was-ist-motivierende-gespraechsfuehrung/
LOCATION:ONLINE\, Deutschland
CATEGORIES:Termine
END:VEVENT
END:VCALENDAR